BEGIN:VCALENDAR
VERSION:2.0
PRODID:-//AABCC - ECPv6.10.2//NONSGML v1.0//EN
CALSCALE:GREGORIAN
METHOD:PUBLISH
X-WR-CALNAME:AABCC
X-ORIGINAL-URL:https://aabccaxe.org
X-WR-CALDESC:Events for AABCC
REFRESH-INTERVAL;VALUE=DURATION:PT1H
X-Robots-Tag:noindex
X-PUBLISHED-TTL:PT1H
BEGIN:VTIMEZONE
TZID:America/Chicago
BEGIN:DAYLIGHT
TZOFFSETFROM:-0600
TZOFFSETTO:-0500
TZNAME:CDT
DTSTART:20240310T080000
END:DAYLIGHT
BEGIN:STANDARD
TZOFFSETFROM:-0500
TZOFFSETTO:-0600
TZNAME:CST
DTSTART:20241103T070000
END:STANDARD
END:VTIMEZONE
BEGIN:VEVENT
DTSTART;TZID=America/Chicago:20240428T160000
DTEND;TZID=America/Chicago:20240428T180000
DTSTAMP:20260421T091632
CREATED:20240413T080010Z
LAST-MODIFIED:20240418T110816Z
UID:10000006-1714320000-1714327200@aabccaxe.org
SUMMARY:Capoeira Workshop
DESCRIPTION:  \nIn preparation for AABCC’s 2024 symposium\, join Ariel Ajeno for a capoeira workshop exploring character\, expressive movement\, and archetypes drawn from the shared cultural context of capoeira and Candomblé. $15 suggested donation. All proceeds will go to the symposium. No one will be turned away for lack of funds. \n 
URL:https://aabccaxe.org/event/capoeira-workshop/
LOCATION:TEXTURE Dance Studio\, 4140 N Sheridan Road\, Chicago\, IL\, 60613\, United States
ATTACH;FMTTYPE=image/jpeg:https://aabccaxe.org/wp-content/uploads/2024/04/AdobeStock_329662158-1-scaled.jpeg
ORGANIZER;CN="Ariel Ajeno":MAILTO:ariel@arielajeno.com
END:VEVENT
END:VCALENDAR