BEGIN:VCALENDAR
VERSION:2.0
PRODID:-//AABCC - ECPv6.10.2//NONSGML v1.0//EN
CALSCALE:GREGORIAN
METHOD:PUBLISH
X-ORIGINAL-URL:https://aabccaxe.org
X-WR-CALDESC:Events for AABCC
REFRESH-INTERVAL;VALUE=DURATION:PT1H
X-Robots-Tag:noindex
X-PUBLISHED-TTL:PT1H
BEGIN:VTIMEZONE
TZID:America/Chicago
BEGIN:DAYLIGHT
TZOFFSETFROM:-0600
TZOFFSETTO:-0500
TZNAME:CDT
DTSTART:20240310T080000
END:DAYLIGHT
BEGIN:STANDARD
TZOFFSETFROM:-0500
TZOFFSETTO:-0600
TZNAME:CST
DTSTART:20241103T070000
END:STANDARD
END:VTIMEZONE
BEGIN:VEVENT
DTSTART;TZID=America/Chicago:20240507T180000
DTEND;TZID=America/Chicago:20240507T193000
DTSTAMP:20260421T074747
CREATED:20240413T071928Z
LAST-MODIFIED:20240425T010444Z
UID:10000005-1715104800-1715110200@aabccaxe.org
SUMMARY:Faith\, Practice\, and Belonging: LGBTQ practitioners in Candomblé
DESCRIPTION:Come learn about the Afro-Brazilian religious practice of Candomblé and gain an understanding of some of the key differences between Candomblé and other religious practices. The talk will explore how Candomblé houses are a place of belonging for LGBTQ members and give a sense of how Candomblé houses are sites of activism in the current climate of religious intolerance in Brazil.
URL:https://aabccaxe.org/event/faith-practice-and-belonging-lgbtq-practitioners-in-candomble/
LOCATION:The University of Chicago Center for Identity + Inclusion\, 5710 S. Woodlawn Ave\, Chicago\, IL\, 60637\, United States
ATTACH;FMTTYPE=image/png:https://aabccaxe.org/wp-content/uploads/2024/04/Colorful-Organic-Shape-School-Admission-Flyer-5.png
END:VEVENT
END:VCALENDAR